BEGIN:VCALENDAR
VERSION:2.0
PRODID:-//Harmony Sport &amp; Relax Club - ECPv4.9.13//NONSGML v1.0//EN
CALSCALE:GREGORIAN
METHOD:PUBLISH
X-WR-CALNAME:Harmony Sport &amp; Relax Club
X-ORIGINAL-URL:https://harmonypisek.cz
X-WR-CALDESC:Events for Harmony Sport &amp; Relax Club
BEGIN:VTIMEZONE
TZID:Europe/Helsinki
BEGIN:DAYLIGHT
TZOFFSETFROM:+0200
TZOFFSETTO:+0300
TZNAME:EEST
DTSTART:20220327T010000
END:DAYLIGHT
BEGIN:STANDARD
TZOFFSETFROM:+0300
TZOFFSETTO:+0200
TZNAME:EET
DTSTART:20221030T010000
END:STANDARD
END:VTIMEZONE
BEGIN:VEVENT
DTSTART;TZID=Europe/Helsinki:20221117T080000
DTEND;TZID=Europe/Helsinki:20221117T200000
DTSTAMP:20260423T014817
CREATED:20221110T081903Z
LAST-MODIFIED:20221110T082002Z
UID:8203-1668672000-1668715200@harmonypisek.cz
SUMMARY:Sváteční otevírací doba 8:00 - 20:00\, wellness 10:00 - 19:30
DESCRIPTION: \n
URL:https://harmonypisek.cz/kalendarakci/svatecni-oteviraci-doba-800-2000/
LOCATION:Harmony Wellness club\, Gregorova 2599\, Písek\, 39701
END:VEVENT
END:VCALENDAR