BEGIN:VCALENDAR
VERSION:2.0
PRODID:-//Harmony Sport &amp; Relax Club - ECPv4.9.13//NONSGML v1.0//EN
CALSCALE:GREGORIAN
METHOD:PUBLISH
X-WR-CALNAME:Harmony Sport &amp; Relax Club
X-ORIGINAL-URL:https://harmonypisek.cz
X-WR-CALDESC:Events for Harmony Sport &amp; Relax Club
BEGIN:VTIMEZONE
TZID:Europe/Helsinki
BEGIN:DAYLIGHT
TZOFFSETFROM:+0200
TZOFFSETTO:+0300
TZNAME:EEST
DTSTART:20220327T010000
END:DAYLIGHT
BEGIN:STANDARD
TZOFFSETFROM:+0300
TZOFFSETTO:+0200
TZNAME:EET
DTSTART:20221030T010000
END:STANDARD
END:VTIMEZONE
BEGIN:VEVENT
DTSTART;TZID=Europe/Helsinki:20221119T090000
DTEND;TZID=Europe/Helsinki:20221119T123000
DTSTAMP:20260423T030032
CREATED:20221110T081725Z
LAST-MODIFIED:20221110T082020Z
UID:8201-1668848400-1668861000@harmonypisek.cz
SUMMARY:Podzimní maraton 9:00 - 12:30
DESCRIPTION: \n
URL:https://harmonypisek.cz/kalendarakci/podzimni-maraton/
LOCATION:Harmony Wellness club\, Gregorova 2599\, Písek\, 39701
ORGANIZER;CN="Harmony":MAILTO:info@harmonypisek.cz
END:VEVENT
END:VCALENDAR