BEGIN:VCALENDAR
VERSION:2.0
PRODID:-//Harmony Sport &amp; Relax Club - ECPv4.9.13//NONSGML v1.0//EN
CALSCALE:GREGORIAN
METHOD:PUBLISH
X-WR-CALNAME:Harmony Sport &amp; Relax Club
X-ORIGINAL-URL:https://harmonypisek.cz
X-WR-CALDESC:Events for Harmony Sport &amp; Relax Club
BEGIN:VTIMEZONE
TZID:Europe/Helsinki
BEGIN:DAYLIGHT
TZOFFSETFROM:+0200
TZOFFSETTO:+0300
TZNAME:EEST
DTSTART:20220327T010000
END:DAYLIGHT
BEGIN:STANDARD
TZOFFSETFROM:+0300
TZOFFSETTO:+0200
TZNAME:EET
DTSTART:20221030T010000
END:STANDARD
END:VTIMEZONE
BEGIN:VEVENT
DTSTART;TZID=Europe/Helsinki:20221015T090000
DTEND;TZID=Europe/Helsinki:20221015T110000
DTSTAMP:20260422T235118
CREATED:20220913T072151Z
LAST-MODIFIED:20220915T104537Z
UID:8007-1665824400-1665831600@harmonypisek.cz
SUMMARY:MiniAlp Maraton
DESCRIPTION: \n
URL:https://harmonypisek.cz/kalendarakci/minialp-maraton/
LOCATION:Harmony Wellness club\, Gregorova 2599\, Písek\, 39701
END:VEVENT
END:VCALENDAR