BEGIN:VCALENDAR
VERSION:2.0
PRODID:-//Harmony Sport &amp; Relax Club - ECPv4.9.13//NONSGML v1.0//EN
CALSCALE:GREGORIAN
METHOD:PUBLISH
X-WR-CALNAME:Harmony Sport &amp; Relax Club
X-ORIGINAL-URL:https://harmonypisek.cz
X-WR-CALDESC:Events for Harmony Sport &amp; Relax Club
BEGIN:VTIMEZONE
TZID:Europe/Helsinki
BEGIN:DAYLIGHT
TZOFFSETFROM:+0200
TZOFFSETTO:+0300
TZNAME:EEST
DTSTART:20220327T010000
END:DAYLIGHT
BEGIN:STANDARD
TZOFFSETFROM:+0300
TZOFFSETTO:+0200
TZNAME:EET
DTSTART:20221030T010000
END:STANDARD
END:VTIMEZONE
BEGIN:VEVENT
DTSTART;TZID=Europe/Helsinki:20220828T180000
DTEND;TZID=Europe/Helsinki:20220828T193000
DTSTAMP:20260422T153132
CREATED:20220808T113833Z
LAST-MODIFIED:20220808T113833Z
UID:7941-1661709600-1661715000@harmonypisek.cz
SUMMARY:Last Jump s Aničkou
DESCRIPTION:
URL:https://harmonypisek.cz/kalendarakci/last-jump-s-anickou/
ATTACH;FMTTYPE=image/png:https://harmonypisek.cz/wp-content/uploads/2022/08/my-visual_56797707.png
END:VEVENT
END:VCALENDAR