BEGIN:VCALENDAR
VERSION:2.0
PRODID:-//Harmony Sport &amp; Relax Club - ECPv4.9.13//NONSGML v1.0//EN
CALSCALE:GREGORIAN
METHOD:PUBLISH
X-WR-CALNAME:Harmony Sport &amp; Relax Club
X-ORIGINAL-URL:https://harmonypisek.cz
X-WR-CALDESC:Events for Harmony Sport &amp; Relax Club
BEGIN:VTIMEZONE
TZID:Europe/Helsinki
BEGIN:DAYLIGHT
TZOFFSETFROM:+0200
TZOFFSETTO:+0300
TZNAME:EEST
DTSTART:20220327T010000
END:DAYLIGHT
BEGIN:STANDARD
TZOFFSETFROM:+0300
TZOFFSETTO:+0200
TZNAME:EET
DTSTART:20221030T010000
END:STANDARD
END:VTIMEZONE
BEGIN:VEVENT
DTSTART;TZID=Europe/Helsinki:20220918T170000
DTEND;TZID=Europe/Helsinki:20220918T180000
DTSTAMP:20260422T180813
CREATED:20220915T105003Z
LAST-MODIFIED:20220915T105140Z
UID:8017-1663520400-1663524000@harmonypisek.cz
SUMMARY:Jumping s Aničkou Žáčkovou
DESCRIPTION: \n
URL:https://harmonypisek.cz/kalendarakci/jumping-s-anickou-zackovou/
ORGANIZER;CN="Harmony":MAILTO:info@harmonypisek.cz
END:VEVENT
END:VCALENDAR