BEGIN:VCALENDAR
VERSION:2.0
PRODID:-//Harmony Sport &amp; Relax Club - ECPv4.9.13//NONSGML v1.0//EN
CALSCALE:GREGORIAN
METHOD:PUBLISH
X-WR-CALNAME:Harmony Sport &amp; Relax Club
X-ORIGINAL-URL:https://harmonypisek.cz
X-WR-CALDESC:Events for Harmony Sport &amp; Relax Club
BEGIN:VTIMEZONE
TZID:Europe/Helsinki
BEGIN:DAYLIGHT
TZOFFSETFROM:+0200
TZOFFSETTO:+0300
TZNAME:EEST
DTSTART:20210328T010000
END:DAYLIGHT
BEGIN:STANDARD
TZOFFSETFROM:+0300
TZOFFSETTO:+0200
TZNAME:EET
DTSTART:20211031T010000
END:STANDARD
END:VTIMEZONE
BEGIN:VEVENT
DTSTART;TZID=Europe/Helsinki:20211012T180000
DTEND;TZID=Europe/Helsinki:20211012T193000
DTSTAMP:20260420T080314
CREATED:20210914T113134Z
LAST-MODIFIED:20210915T100231Z
UID:6990-1634061600-1634067000@harmonypisek.cz
SUMMARY:Hathajoga s Vlaďkou Račmanovou
DESCRIPTION:
URL:https://harmonypisek.cz/kalendarakci/hathajoga-s-vladkou-racmanovou-2/
ATTACH;FMTTYPE=image/png:https://harmonypisek.cz/wp-content/uploads/2021/09/joga.png
END:VEVENT
END:VCALENDAR