BEGIN:VCALENDAR
VERSION:2.0
PRODID:-//Harmony Sport &amp; Relax Club - ECPv4.9.13//NONSGML v1.0//EN
CALSCALE:GREGORIAN
METHOD:PUBLISH
X-WR-CALNAME:Harmony Sport &amp; Relax Club
X-ORIGINAL-URL:https://harmonypisek.cz
X-WR-CALDESC:Events for Harmony Sport &amp; Relax Club
BEGIN:VTIMEZONE
TZID:Europe/Helsinki
BEGIN:DAYLIGHT
TZOFFSETFROM:+0200
TZOFFSETTO:+0300
TZNAME:EEST
DTSTART:20220327T010000
END:DAYLIGHT
BEGIN:STANDARD
TZOFFSETFROM:+0300
TZOFFSETTO:+0200
TZNAME:EET
DTSTART:20221030T010000
END:STANDARD
END:VTIMEZONE
BEGIN:VEVENT
DTSTART;TZID=Europe/Helsinki:20221030T170000
DTEND;TZID=Europe/Helsinki:20221030T183000
DTSTAMP:20260423T005156
CREATED:20221005T100917Z
LAST-MODIFIED:20221005T100917Z
UID:8094-1667149200-1667154600@harmonypisek.cz
SUMMARY:Halloweenská neděle
DESCRIPTION: \n
URL:https://harmonypisek.cz/kalendarakci/halloweenska-nedele/
LOCATION:Harmony Wellness club\, Gregorova 2599\, Písek\, 39701
END:VEVENT
END:VCALENDAR