BEGIN:VCALENDAR
VERSION:2.0
PRODID:-//Harmony Sport &amp; Relax Club - ECPv4.9.13//NONSGML v1.0//EN
CALSCALE:GREGORIAN
METHOD:PUBLISH
X-WR-CALNAME:Harmony Sport &amp; Relax Club
X-ORIGINAL-URL:https://harmonypisek.cz
X-WR-CALDESC:Events for Harmony Sport &amp; Relax Club
BEGIN:VTIMEZONE
TZID:Europe/Helsinki
BEGIN:DAYLIGHT
TZOFFSETFROM:+0200
TZOFFSETTO:+0300
TZNAME:EEST
DTSTART:20210328T010000
END:DAYLIGHT
BEGIN:STANDARD
TZOFFSETFROM:+0300
TZOFFSETTO:+0200
TZNAME:EET
DTSTART:20211031T010000
END:STANDARD
END:VTIMEZONE
BEGIN:VEVENT
DTSTART;TZID=Europe/Helsinki:20210708T180000
DTEND;TZID=Europe/Helsinki:20210708T193000
DTSTAMP:20260425T023204
CREATED:20210624T045550Z
LAST-MODIFIED:20210624T045550Z
UID:6737-1625767200-1625772600@harmonypisek.cz
SUMMARY:Summer Fitness Dance
DESCRIPTION:
URL:https://harmonypisek.cz/kalendarakci/summer-fitness-dance/
ATTACH;FMTTYPE=image/png:https://harmonypisek.cz/wp-content/uploads/2021/06/fitness-dance.png
END:VEVENT
END:VCALENDAR